BEGIN:VCALENDAR
VERSION:2.0
PRODID:-//Boise Tamil Sangam - ECPv6.15.10//NONSGML v1.0//EN
CALSCALE:GREGORIAN
METHOD:PUBLISH
X-WR-CALNAME:Boise Tamil Sangam
X-ORIGINAL-URL:https://boisetamilsangam.org
X-WR-CALDESC:Events for Boise Tamil Sangam
REFRESH-INTERVAL;VALUE=DURATION:PT1H
X-Robots-Tag:noindex
X-PUBLISHED-TTL:PT1H
BEGIN:VTIMEZONE
TZID:America/Chicago
BEGIN:DAYLIGHT
TZOFFSETFROM:-0600
TZOFFSETTO:-0500
TZNAME:CDT
DTSTART:20250309T080000
END:DAYLIGHT
BEGIN:STANDARD
TZOFFSETFROM:-0500
TZOFFSETTO:-0600
TZNAME:CST
DTSTART:20251102T070000
END:STANDARD
BEGIN:DAYLIGHT
TZOFFSETFROM:-0600
TZOFFSETTO:-0500
TZNAME:CDT
DTSTART:20260308T080000
END:DAYLIGHT
BEGIN:STANDARD
TZOFFSETFROM:-0500
TZOFFSETTO:-0600
TZNAME:CST
DTSTART:20261101T070000
END:STANDARD
BEGIN:DAYLIGHT
TZOFFSETFROM:-0600
TZOFFSETTO:-0500
TZNAME:CDT
DTSTART:20270314T080000
END:DAYLIGHT
BEGIN:STANDARD
TZOFFSETFROM:-0500
TZOFFSETTO:-0600
TZNAME:CST
DTSTART:20271107T070000
END:STANDARD
END:VTIMEZONE
BEGIN:VEVENT
DTSTART;TZID=America/Chicago:20260503T160000
DTEND;TZID=America/Chicago:20260503T210000
DTSTAMP:20260423T163159
CREATED:20260315T011157Z
LAST-MODIFIED:20260421T060007Z
UID:3605-1777824000-1777842000@boisetamilsangam.org
SUMMARY:2026 Tamil New Year
DESCRIPTION:Event Date and Time:  May 3\, 2026 (Sunday)\, 4:00PM – 9PM\nEvent Venue:  Kuna Performing Arts Center\n637 E Deer Flat Rd\, Kuna\, ID 83634\nTickets: Adults (18+): $15; Kids (5-18): $10; Kids (< 5 yrs): Free\nGet your tickets before 4/20.\nBeyond 4/20 – ticket prices will be as below:\nAdults (18+): $25; Kids (5-18): $20; Kids (< 5 yrs): Free
URL:https://boisetamilsangam.org/event/2026-tamil-new-year/
LOCATION:Kuna Performing Arts Center\, 637 E Deer Flat Rd\, Kuna\, ID 83634\, Kuna\, ID\, 83634\, United States
END:VEVENT
END:VCALENDAR