BEGIN:VCALENDAR
VERSION:2.0
PRODID:-//Boise Tamil Sangam - ECPv6.15.10//NONSGML v1.0//EN
CALSCALE:GREGORIAN
METHOD:PUBLISH
X-ORIGINAL-URL:https://boisetamilsangam.org
X-WR-CALDESC:Events for Boise Tamil Sangam
REFRESH-INTERVAL;VALUE=DURATION:PT1H
X-Robots-Tag:noindex
X-PUBLISHED-TTL:PT1H
BEGIN:VTIMEZONE
TZID:America/Boise
BEGIN:DAYLIGHT
TZOFFSETFROM:-0700
TZOFFSETTO:-0600
TZNAME:MDT
DTSTART:20250309T090000
END:DAYLIGHT
BEGIN:STANDARD
TZOFFSETFROM:-0600
TZOFFSETTO:-0700
TZNAME:MST
DTSTART:20251102T080000
END:STANDARD
BEGIN:DAYLIGHT
TZOFFSETFROM:-0700
TZOFFSETTO:-0600
TZNAME:MDT
DTSTART:20260308T090000
END:DAYLIGHT
BEGIN:STANDARD
TZOFFSETFROM:-0600
TZOFFSETTO:-0700
TZNAME:MST
DTSTART:20261101T080000
END:STANDARD
BEGIN:DAYLIGHT
TZOFFSETFROM:-0700
TZOFFSETTO:-0600
TZNAME:MDT
DTSTART:20270314T090000
END:DAYLIGHT
BEGIN:STANDARD
TZOFFSETFROM:-0600
TZOFFSETTO:-0700
TZNAME:MST
DTSTART:20271107T080000
END:STANDARD
END:VTIMEZONE
BEGIN:VTIMEZONE
TZID:UTC
BEGIN:STANDARD
TZOFFSETFROM:+0000
TZOFFSETTO:+0000
TZNAME:UTC
DTSTART:20220101T000000
END:STANDARD
END:VTIMEZONE
BEGIN:VTIMEZONE
TZID:America/Denver
BEGIN:DAYLIGHT
TZOFFSETFROM:-0700
TZOFFSETTO:-0600
TZNAME:MDT
DTSTART:20240310T090000
END:DAYLIGHT
BEGIN:STANDARD
TZOFFSETFROM:-0600
TZOFFSETTO:-0700
TZNAME:MST
DTSTART:20241103T080000
END:STANDARD
BEGIN:DAYLIGHT
TZOFFSETFROM:-0700
TZOFFSETTO:-0600
TZNAME:MDT
DTSTART:20250309T090000
END:DAYLIGHT
BEGIN:STANDARD
TZOFFSETFROM:-0600
TZOFFSETTO:-0700
TZNAME:MST
DTSTART:20251102T080000
END:STANDARD
BEGIN:DAYLIGHT
TZOFFSETFROM:-0700
TZOFFSETTO:-0600
TZNAME:MDT
DTSTART:20260308T090000
END:DAYLIGHT
BEGIN:STANDARD
TZOFFSETFROM:-0600
TZOFFSETTO:-0700
TZNAME:MST
DTSTART:20261101T080000
END:STANDARD
END:VTIMEZONE
BEGIN:VEVENT
DTSTART;TZID=America/Boise:20260110T170000
DTEND;TZID=America/Boise:20260110T210000
DTSTAMP:20260423T174948
CREATED:20251214T055917Z
LAST-MODIFIED:20260105T015405Z
UID:3473-1768064400-1768078800@boisetamilsangam.org
SUMMARY:Pongal Thiruvizha 2026
DESCRIPTION:Event Date and Time:  Jan 10\, 2026 (Saturday)\, 5PM – 9PM\nEvent Venue:  Dick Eardley Boise Senior Center\n690 Robbins Rd\, Boise\, ID 83702\nTicket Details: Adults (18+): $10; Kids (5-18): $7; Kids (< 5 yrs): Free
URL:https://boisetamilsangam.org/event/pongal-thiruvizha-2026/
LOCATION:Dick Eardley Boise Senior Center\, 690 Robins Road\, Boise\, ID\, 83702\, United States
END:VEVENT
BEGIN:VEVENT
DTSTART;TZID=UTC:20250824T100000
DTEND;TZID=UTC:20250824T150000
DTSTAMP:20260423T174948
CREATED:20250718T020809Z
LAST-MODIFIED:20250817T223738Z
UID:3274-1756029600-1756047600@boisetamilsangam.org
SUMMARY:Kodai Thiruvizha 2025
DESCRIPTION:Venue: Micron Gazebo \nDate: August 24th (Sunday) \nTime: 10am to 3pm
URL:https://boisetamilsangam.org/event/kodai-thiruvizha-2025/
LOCATION:Micron Gazebo\, 3715-3727 Technology Ln\, Boise\, ID\, 83716\, United States
END:VEVENT
BEGIN:VEVENT
DTSTART;TZID=UTC:20250503T163000
DTEND;TZID=UTC:20250503T210000
DTSTAMP:20260423T174948
CREATED:20250313T031032Z
LAST-MODIFIED:20250420T221803Z
UID:2892-1746289800-1746306000@boisetamilsangam.org
SUMMARY:2025 Tamil New Year
DESCRIPTION:Event Date and Time:  May 3\, 2025 (Saturday)\, 4:30PM – 9PM\nEvent Venue:  Caldwell Senior High School\n3401 S Indiana Ave\, Caldwell\, ID 83605\nTickets: Adults (18+): $15; Kids (5-18): $10; Kids (< 5 yrs): Free\nGet your tickets before 4/20.\nBeyond 4/20 – ticket prices will be as below:\nAdults (18+): $25; Kids (5-18): $20; Kids (< 5 yrs): Free
URL:https://boisetamilsangam.org/event/2025-tamil-new-year/
LOCATION:caldwell senior high school\, 3401 S Indiana Ave\, Caldwell\, 83605\, United States
END:VEVENT
BEGIN:VEVENT
DTSTART;TZID=America/Denver:20250111T170000
DTEND;TZID=America/Denver:20250111T210000
DTSTAMP:20260423T174948
CREATED:20241206T235240Z
LAST-MODIFIED:20250103T233246Z
UID:2689-1736614800-1736629200@boisetamilsangam.org
SUMMARY:Pongal Thiruvizha 2025
DESCRIPTION:Event Date and Time:  Jan 11\, 2024 (Saturday)\, 5PM – 9PM\nEvent Venue:  Dick Eardley Boise Senior Center\n690 Robbins Rd\, Boise\, ID 83702\nTicket Details: Adults (18+): $7; Kids (5-18): $5; Kids (< 5 yrs): Free
URL:https://boisetamilsangam.org/event/pongal-thiruvizha-2025/
LOCATION:Dick Eardley Boise Senior Center\, 690 Robins Road\, Boise\, ID\, 83702\, United States
END:VEVENT
BEGIN:VEVENT
DTSTART;TZID=UTC:20240818T100000
DTEND;TZID=UTC:20240818T150000
DTSTAMP:20260423T174948
CREATED:20240716T231737Z
LAST-MODIFIED:20240812T191342Z
UID:2519-1723975200-1723993200@boisetamilsangam.org
SUMMARY:Kodai Thiruvizha 2024
DESCRIPTION:Venue: Micron Gazebo \nDate: August 18th (Sunday) \nTime: 10am to 3pm
URL:https://boisetamilsangam.org/event/kodai-thiruvizha-2024/
LOCATION:ID
END:VEVENT
BEGIN:VEVENT
DTSTART;TZID=UTC:20240413T170000
DTEND;TZID=UTC:20240413T210000
DTSTAMP:20260423T174948
CREATED:20240211T200542Z
LAST-MODIFIED:20240402T175518Z
UID:2169-1713027600-1713042000@boisetamilsangam.org
SUMMARY:2024 Tamil New Year
DESCRIPTION:Please contact Arun (208-912-6583) for event and ticketing details
URL:https://boisetamilsangam.org/event/2024-tamil-new-year/
LOCATION:Private: Skyview High School\, 1303 E Greenhurst Rd\, Nampa\, 83686\, United States
END:VEVENT
BEGIN:VEVENT
DTSTART;TZID=UTC:20240113T173000
DTEND;TZID=UTC:20240113T213000
DTSTAMP:20260423T174948
CREATED:20231122T183212Z
LAST-MODIFIED:20240101T181945Z
UID:1995-1705167000-1705181400@boisetamilsangam.org
SUMMARY:BTS Pongal Thiruvizha 2024
DESCRIPTION: 
URL:https://boisetamilsangam.org/event/bts-pongal-thiruvizha-2024/
LOCATION:Dick Eardley Boise Senior Center\, 690 Robins Road\, Boise\, ID\, 83702\, United States
END:VEVENT
BEGIN:VEVENT
DTSTART;TZID=UTC:20230813T100000
DTEND;TZID=UTC:20230813T170000
DTSTAMP:20260423T174948
CREATED:20230708T132353Z
LAST-MODIFIED:20230809T212156Z
UID:1874-1691920800-1691946000@boisetamilsangam.org
SUMMARY:2023 Kodai Thiruvizha
DESCRIPTION:
URL:https://boisetamilsangam.org/event/2023-kodai-thiruvizha/
LOCATION:Micron Gazebo\, 3715-3727 Technology Ln\, Boise\, ID\, 83716\, United States
END:VEVENT
END:VCALENDAR